BEGIN:VCALENDAR
VERSION:2.0
PRODID:-//WNC JeepFest - ECPv6.15.20//NONSGML v1.0//EN
CALSCALE:GREGORIAN
METHOD:PUBLISH
X-WR-CALNAME:WNC JeepFest
X-ORIGINAL-URL:https://wncjeepfest.com
X-WR-CALDESC:Events for WNC JeepFest
REFRESH-INTERVAL;VALUE=DURATION:PT1H
X-Robots-Tag:noindex
X-PUBLISHED-TTL:PT1H
BEGIN:VTIMEZONE
TZID:America/New_York
BEGIN:DAYLIGHT
TZOFFSETFROM:-0500
TZOFFSETTO:-0400
TZNAME:EDT
DTSTART:20220313T070000
END:DAYLIGHT
BEGIN:STANDARD
TZOFFSETFROM:-0400
TZOFFSETTO:-0500
TZNAME:EST
DTSTART:20221106T060000
END:STANDARD
BEGIN:DAYLIGHT
TZOFFSETFROM:-0500
TZOFFSETTO:-0400
TZNAME:EDT
DTSTART:20230312T070000
END:DAYLIGHT
BEGIN:STANDARD
TZOFFSETFROM:-0400
TZOFFSETTO:-0500
TZNAME:EST
DTSTART:20231105T060000
END:STANDARD
BEGIN:DAYLIGHT
TZOFFSETFROM:-0500
TZOFFSETTO:-0400
TZNAME:EDT
DTSTART:20240310T070000
END:DAYLIGHT
BEGIN:STANDARD
TZOFFSETFROM:-0400
TZOFFSETTO:-0500
TZNAME:EST
DTSTART:20241103T060000
END:STANDARD
BEGIN:DAYLIGHT
TZOFFSETFROM:-0500
TZOFFSETTO:-0400
TZNAME:EDT
DTSTART:20250309T070000
END:DAYLIGHT
BEGIN:STANDARD
TZOFFSETFROM:-0400
TZOFFSETTO:-0500
TZNAME:EST
DTSTART:20251102T060000
END:STANDARD
BEGIN:DAYLIGHT
TZOFFSETFROM:-0500
TZOFFSETTO:-0400
TZNAME:EDT
DTSTART:20260308T070000
END:DAYLIGHT
BEGIN:STANDARD
TZOFFSETFROM:-0400
TZOFFSETTO:-0500
TZNAME:EST
DTSTART:20261101T060000
END:STANDARD
END:VTIMEZONE
BEGIN:VEVENT
DTSTART;TZID=America/New_York:20250606T100000
DTEND;TZID=America/New_York:20250607T170000
DTSTAMP:20260421T080019
CREATED:20250102T025926Z
LAST-MODIFIED:20250604T121839Z
UID:10000003-1749204000-1749315600@wncjeepfest.com
SUMMARY:2025 WNC JeepFest
DESCRIPTION:Please join us for our 6th annual WNC JeepFest: hosted by WNC Jeepers! \nWe’ll see you June 6th & 7th\, 2024 \nGates are open 10a-7p on Friday\, then 9a-5p on Saturday! \nAll Jeep models welcome! We will have vendors available and a Show & Shine competition. \nWe will have food vendors and many other vendors with Jeep-related items! \nTickets are also available for the Show & Shine on Saturday and our guided rides on Sunday! \nThis is a rain-or-shine event with no rain date. All ages welcome; Kids 7 & under are free. Leashed dogs welcome!
URL:https://wncjeepfest.com/event/2025-wnc-jeepfest/
LOCATION:Maggie Valley Festival Grounds\, 3374 Soco Rd\, Maggie Valley\, NC\, 28751\, United States
ORGANIZER;CN="WNC JeepFest":MAILTO:wncjeepfest@gmail.com
END:VEVENT
BEGIN:VEVENT
DTSTART;TZID=America/New_York:20240607T090000
DTEND;TZID=America/New_York:20240608T170000
DTSTAMP:20260421T080019
CREATED:20231223T183037Z
LAST-MODIFIED:20240602T190331Z
UID:10000002-1717750800-1717866000@wncjeepfest.com
SUMMARY:2024 WNC JeepFest
DESCRIPTION:Please join us for our 5th annual WNC JeepFest: hosted by WNC Jeepers! \nWe’ll see you June 7th & 8th\, 2024 \nGates open at 9a and close at 5p both days! \nAll Jeep models welcome! We will have vendors available and a Show & Shine competition. \nWe will have food vendors and many other vendors with Jeep-related items! \nTickets are also available for the Show & Shine on Saturday and our guided rides on Sunday! \nThis is a rain-or-shine event with no rain date. All ages welcome; Kids 7 & under are free. Leashed dogs welcome! \nONLINE TICKET SALES STOP 6/6 @ 6PM! PURCHASES AFTER THAT POINT WILL OCCUR AT THE GATE!
URL:https://wncjeepfest.com/event/2024-wnc-jeepfest/
LOCATION:Maggie Valley Festival Grounds\, 3374 Soco Rd\, Maggie Valley\, NC\, 28751\, United States
ORGANIZER;CN="WNC JeepFest":MAILTO:wncjeepfest@gmail.com
END:VEVENT
BEGIN:VEVENT
DTSTART;TZID=America/New_York:20230609T090000
DTEND;TZID=America/New_York:20230610T170000
DTSTAMP:20260421T080019
CREATED:20230302T011541Z
LAST-MODIFIED:20230510T015211Z
UID:10000001-1686301200-1686416400@wncjeepfest.com
SUMMARY:2023 WNC JeepFest
DESCRIPTION:Please join us for our 4th annual WNC JeepFest: hosted by WNC Jeepers! \nWe’ll see you June 9 & 10\, 2023 \nGates open at 9a and close at 5p both days! \nAll Jeep models welcome! We will have vendors available and a Show & Shine competition. \nWe will have food vendors and many other vendors with Jeep-related items! \nTickets are also available for the Show & Shine on Saturday and our guided rides on Sunday! \nThis is a rain-or-shine event with no rain date. All ages welcome; Kids 7 & under are free. Leashed dogs welcome! \nONLINE TICKET SALES STOP 6/8 @ 6PM! PURCHASES AFTER THAT POINT WILL OCCUR AT THE GATE!
URL:https://wncjeepfest.com/event/2023-wnc-jeepfest/
LOCATION:Maggie Valley Festival Grounds\, 3374 Soco Rd\, Maggie Valley\, NC\, 28751\, United States
ATTACH;FMTTYPE=image/png:https://wncjeepfest.com/wp-content/uploads/2023/01/325448202_917362369435984_2734866331379528735_n-1.png
ORGANIZER;CN="WNC JeepFest":MAILTO:wncjeepfest@gmail.com
END:VEVENT
END:VCALENDAR